BEGIN:VCALENDAR
VERSION:2.0
PRODID:-//North West Spirit Taekwondo Liverpool - ECPv6.15.20//NONSGML v1.0//EN
CALSCALE:GREGORIAN
METHOD:PUBLISH
X-ORIGINAL-URL:https://nwstkd.com
X-WR-CALDESC:Events for North West Spirit Taekwondo Liverpool
REFRESH-INTERVAL;VALUE=DURATION:PT1H
X-Robots-Tag:noindex
X-PUBLISHED-TTL:PT1H
BEGIN:VTIMEZONE
TZID:Europe/London
BEGIN:DAYLIGHT
TZOFFSETFROM:+0000
TZOFFSETTO:+0100
TZNAME:BST
DTSTART:20240331T010000
END:DAYLIGHT
BEGIN:STANDARD
TZOFFSETFROM:+0100
TZOFFSETTO:+0000
TZNAME:GMT
DTSTART:20241027T010000
END:STANDARD
BEGIN:DAYLIGHT
TZOFFSETFROM:+0000
TZOFFSETTO:+0100
TZNAME:BST
DTSTART:20250330T010000
END:DAYLIGHT
BEGIN:STANDARD
TZOFFSETFROM:+0100
TZOFFSETTO:+0000
TZNAME:GMT
DTSTART:20251026T010000
END:STANDARD
BEGIN:DAYLIGHT
TZOFFSETFROM:+0000
TZOFFSETTO:+0100
TZNAME:BST
DTSTART:20260329T010000
END:DAYLIGHT
BEGIN:STANDARD
TZOFFSETFROM:+0100
TZOFFSETTO:+0000
TZNAME:GMT
DTSTART:20261025T010000
END:STANDARD
END:VTIMEZONE
BEGIN:VEVENT
DTSTART;VALUE=DATE:20250302
DTEND;VALUE=DATE:20250303
DTSTAMP:20260421T154821
CREATED:20250120T163453Z
LAST-MODIFIED:20250215T182055Z
UID:3047-1740873600-1740959999@nwstkd.com
SUMMARY:2025 OMA British Championships
DESCRIPTION:  \n\n\n\nSunday 2nd March: OMA British Championships\n\n\nVenue\nDeesideLeisure Centre\, Chester Road East\, Queensferry\, Deeside\, CH5 1SA\n\n\nStart time\nDoors open 09:30.\nJuniors start 10:00.\nAdults & all inclusive categories start 13:00.\n\n\nEntry fee\n£25 for non-OMA members.\nTag team sparring – £5 per competitor; register and pay on the day.\nTeam patterns – £5 per competitor; register and pay on the day.\nSpectators £5 cash on the door (under 5s free).\n\n\nEligibility\nOpen to all licenced students\n\n\nEvents\nPatterns\nSparring\nSpeed kicking (juniors only)\nDestruction (black belt adults only)\n\n\nHow to enter\nOnline entry\n\n\nFurther info\nhttps://www.kihapp.com/tournaments/18396-oma-british-championships\n\n\n\n 
URL:https://nwstkd.com/index.php/event/2025-oma-british-championships/
LOCATION:Deeside Leisure Centre\, Chester Road West\, Queensferry\, Deeside\, CH5 1SA\, United Kingdom
CATEGORIES:Charity Event,Tournaments
ATTACH;FMTTYPE=image/jpeg:https://nwstkd.com/wp-content/uploads/2025/01/2025OMABritishChampsPoster.jpg
END:VEVENT
END:VCALENDAR