BEGIN:VCALENDAR
VERSION:2.0
PRODID:-//North West Spirit Taekwondo Liverpool - ECPv6.15.20//NONSGML v1.0//EN
CALSCALE:GREGORIAN
METHOD:PUBLISH
X-ORIGINAL-URL:https://nwstkd.com
X-WR-CALDESC:Events for North West Spirit Taekwondo Liverpool
REFRESH-INTERVAL;VALUE=DURATION:PT1H
X-Robots-Tag:noindex
X-PUBLISHED-TTL:PT1H
BEGIN:VTIMEZONE
TZID:Europe/London
BEGIN:DAYLIGHT
TZOFFSETFROM:+0000
TZOFFSETTO:+0100
TZNAME:BST
DTSTART:20240331T010000
END:DAYLIGHT
BEGIN:STANDARD
TZOFFSETFROM:+0100
TZOFFSETTO:+0000
TZNAME:GMT
DTSTART:20241027T010000
END:STANDARD
BEGIN:DAYLIGHT
TZOFFSETFROM:+0000
TZOFFSETTO:+0100
TZNAME:BST
DTSTART:20250330T010000
END:DAYLIGHT
BEGIN:STANDARD
TZOFFSETFROM:+0100
TZOFFSETTO:+0000
TZNAME:GMT
DTSTART:20251026T010000
END:STANDARD
BEGIN:DAYLIGHT
TZOFFSETFROM:+0000
TZOFFSETTO:+0100
TZNAME:BST
DTSTART:20260329T010000
END:DAYLIGHT
BEGIN:STANDARD
TZOFFSETFROM:+0100
TZOFFSETTO:+0000
TZNAME:GMT
DTSTART:20261025T010000
END:STANDARD
END:VTIMEZONE
BEGIN:VEVENT
DTSTART;VALUE=DATE:20250622
DTEND;VALUE=DATE:20250623
DTSTAMP:20260421T113045
CREATED:20241210T163147Z
LAST-MODIFIED:20250511T214921Z
UID:3032-1750550400-1750636799@nwstkd.com
SUMMARY:GTI Charity 100 Rounds of Sparring 2025
DESCRIPTION:On 22nd June\, our students will be taking part in a gruelling taekwondo event: 100 Rounds of Sparring! Participants will have to survive 100 rounds of taekwondo sparring (or 25\, 50 or 75 rounds for juniors) or up to 100 minutes of patterns. The bravest will even do it in fancy dress! \nThis is likely to be very sweaty and extremely hard work! So please dig deep and sponsor our efforts. It’s for a very worthy cause. We are raising funds for Zoe’s Place Baby Hospice in Liverpool\, which almost had to close down in 2024 before it was saved by overwhelming support and a ton of donations from the public. \nZoe’s Place provides specialist care for very ill babies and their families. The hospice is almost entirely reliant upon public donations\, so please help us to support this amazing local charity. \nLet’s go\, team! \n\n\nSponsor our team!\nDownload a sponsorship form
URL:https://nwstkd.com/index.php/event/gti-charity-100-rounds-of-sparring-2025/
LOCATION:Bridgnorth Endowed Leisure Centre\, Northgate\, Bridgnorth\, WV16 4ER\, United Kingdom
CATEGORIES:Charity Event
ATTACH;FMTTYPE=image/jpeg:https://nwstkd.com/wp-content/uploads/2024/12/202506gti100rounds.jpg
END:VEVENT
END:VCALENDAR