BEGIN:VCALENDAR
VERSION:2.0
PRODID:-//North West Spirit Taekwondo Liverpool - ECPv6.15.20//NONSGML v1.0//EN
CALSCALE:GREGORIAN
METHOD:PUBLISH
X-WR-CALNAME:North West Spirit Taekwondo Liverpool
X-ORIGINAL-URL:https://nwstkd.com
X-WR-CALDESC:Events for North West Spirit Taekwondo Liverpool
REFRESH-INTERVAL;VALUE=DURATION:PT1H
X-Robots-Tag:noindex
X-PUBLISHED-TTL:PT1H
BEGIN:VTIMEZONE
TZID:Europe/London
BEGIN:DAYLIGHT
TZOFFSETFROM:+0000
TZOFFSETTO:+0100
TZNAME:BST
DTSTART:20230326T010000
END:DAYLIGHT
BEGIN:STANDARD
TZOFFSETFROM:+0100
TZOFFSETTO:+0000
TZNAME:GMT
DTSTART:20231029T010000
END:STANDARD
BEGIN:DAYLIGHT
TZOFFSETFROM:+0000
TZOFFSETTO:+0100
TZNAME:BST
DTSTART:20240331T010000
END:DAYLIGHT
BEGIN:STANDARD
TZOFFSETFROM:+0100
TZOFFSETTO:+0000
TZNAME:GMT
DTSTART:20241027T010000
END:STANDARD
BEGIN:DAYLIGHT
TZOFFSETFROM:+0000
TZOFFSETTO:+0100
TZNAME:BST
DTSTART:20250330T010000
END:DAYLIGHT
BEGIN:STANDARD
TZOFFSETFROM:+0100
TZOFFSETTO:+0000
TZNAME:GMT
DTSTART:20251026T010000
END:STANDARD
END:VTIMEZONE
BEGIN:VEVENT
DTSTART;TZID=Europe/London:20240727T103000
DTEND;TZID=Europe/London:20240727T113000
DTSTAMP:20260423T221819
CREATED:20240531T153117Z
LAST-MODIFIED:20240531T161125Z
UID:2755-1722076200-1722079800@nwstkd.com
SUMMARY:Sponsored Kick-a-thon!
DESCRIPTION:  \nAsk your family and friends to sponsor you for one crazy hour of furious kicking! A solid hour of pad work using a variety of taekwondo techniques. How many kicks can YOU do in an hour? \nThis fun kick-a-thon event will take place during the usual two-hour Tournament Training class (start time approx 10.30am). There will be no lesson fee for those raising sponsorship; anyone not raising sponsorship is still welcome to take part\, with their lesson fees going into the fund for our World Championships team. There will be prizes for the best kicks and for whoever raises the most in sponsorship. All students are welcome to take part. \nDownload your sponsorship form here!
URL:https://nwstkd.com/index.php/event/sponsored-kick-a-thon/
LOCATION:All Souls Church Hall\, Springwood Avenue\, Liverpool\, Merseyside\, L19 4TF\, United Kingdom
ATTACH;FMTTYPE=image/png:https://nwstkd.com/wp-content/uploads/2024/05/Kickathon-Poster.png
END:VEVENT
END:VCALENDAR