BEGIN:VCALENDAR
VERSION:2.0
PRODID:-//North West Spirit Taekwondo Liverpool - ECPv6.15.20//NONSGML v1.0//EN
CALSCALE:GREGORIAN
METHOD:PUBLISH
X-ORIGINAL-URL:https://nwstkd.com
X-WR-CALDESC:Events for North West Spirit Taekwondo Liverpool
REFRESH-INTERVAL;VALUE=DURATION:PT1H
X-Robots-Tag:noindex
X-PUBLISHED-TTL:PT1H
BEGIN:VTIMEZONE
TZID:Europe/London
BEGIN:DAYLIGHT
TZOFFSETFROM:+0000
TZOFFSETTO:+0100
TZNAME:BST
DTSTART:20240331T010000
END:DAYLIGHT
BEGIN:STANDARD
TZOFFSETFROM:+0100
TZOFFSETTO:+0000
TZNAME:GMT
DTSTART:20241027T010000
END:STANDARD
BEGIN:DAYLIGHT
TZOFFSETFROM:+0000
TZOFFSETTO:+0100
TZNAME:BST
DTSTART:20250330T010000
END:DAYLIGHT
BEGIN:STANDARD
TZOFFSETFROM:+0100
TZOFFSETTO:+0000
TZNAME:GMT
DTSTART:20251026T010000
END:STANDARD
BEGIN:DAYLIGHT
TZOFFSETFROM:+0000
TZOFFSETTO:+0100
TZNAME:BST
DTSTART:20260329T010000
END:DAYLIGHT
BEGIN:STANDARD
TZOFFSETFROM:+0100
TZOFFSETTO:+0000
TZNAME:GMT
DTSTART:20261025T010000
END:STANDARD
END:VTIMEZONE
BEGIN:VEVENT
DTSTART;VALUE=DATE:20250302
DTEND;VALUE=DATE:20250303
DTSTAMP:20260421T140909
CREATED:20250120T163453Z
LAST-MODIFIED:20250215T182055Z
UID:3047-1740873600-1740959999@nwstkd.com
SUMMARY:2025 OMA British Championships
DESCRIPTION:  \n\n\n\nSunday 2nd March: OMA British Championships\n\n\nVenue\nDeesideLeisure Centre\, Chester Road East\, Queensferry\, Deeside\, CH5 1SA\n\n\nStart time\nDoors open 09:30.\nJuniors start 10:00.\nAdults & all inclusive categories start 13:00.\n\n\nEntry fee\n£25 for non-OMA members.\nTag team sparring – £5 per competitor; register and pay on the day.\nTeam patterns – £5 per competitor; register and pay on the day.\nSpectators £5 cash on the door (under 5s free).\n\n\nEligibility\nOpen to all licenced students\n\n\nEvents\nPatterns\nSparring\nSpeed kicking (juniors only)\nDestruction (black belt adults only)\n\n\nHow to enter\nOnline entry\n\n\nFurther info\nhttps://www.kihapp.com/tournaments/18396-oma-british-championships\n\n\n\n 
URL:https://nwstkd.com/index.php/event/2025-oma-british-championships/
LOCATION:Deeside Leisure Centre\, Chester Road West\, Queensferry\, Deeside\, CH5 1SA\, United Kingdom
CATEGORIES:Charity Event,Tournaments
ATTACH;FMTTYPE=image/jpeg:https://nwstkd.com/wp-content/uploads/2025/01/2025OMABritishChampsPoster.jpg
END:VEVENT
BEGIN:VEVENT
DTSTART;TZID=Europe/London:20250309T110000
DTEND;TZID=Europe/London:20250309T150000
DTSTAMP:20260421T140909
CREATED:20250222T081909Z
LAST-MODIFIED:20250222T083638Z
UID:3068-1741518000-1741532400@nwstkd.com
SUMMARY:GTI Black Belt Patterns Seminar
DESCRIPTION:Open to all GTI 1st Kup (Black Stripes) and GTI Dan grade students. \n  \nDress code: white doboks and belts. Please bring your own drinks/packed lunch (as appropriate). \n  \nCost for one session £15. Cost for double session £20. \n  \nSession One: 11am to 1pm \n1st kups – colour belt patterns \n1st to 2nd Dan – Kwang Gae | Po Eun | Gae Baek \n2nd to 3rd Dan – Eui-Am | Choong Jang |Ko Dang \n  \nSession Two: 1pm to 3pm \n3rd to 4th Dan – Sam Il | Yoo Sin | Choi-Yong \n4th to 5th Dan – Ul Ji | Moon Moo | So-San \n5th to 6th Dan – Yong-Gae | Se-Jong | Tong-Il
URL:https://nwstkd.com/index.php/event/gti-black-belt-patterns-seminar/
LOCATION:Cheltenham Bournside School\, Warden Hill Road\, Cheltenham\, Gloucestershire\, GL51 3EF\, United Kingdom
CATEGORIES:Courses & Seminars
ATTACH;FMTTYPE=image/jpeg:https://nwstkd.com/wp-content/uploads/2025/02/FB_IMG_1740212040144.jpg
END:VEVENT
BEGIN:VEVENT
DTSTART;TZID=Europe/London:20250316T120000
DTEND;TZID=Europe/London:20250316T150000
DTSTAMP:20260421T140909
CREATED:20241210T160812Z
LAST-MODIFIED:20241210T160812Z
UID:3008-1742126400-1742137200@nwstkd.com
SUMMARY:GTI National Squad Training: Mar 2025
DESCRIPTION:GTI Squad Training sessions are open to all GTI members (age 7+) who train regularly at a GTI club. All grades are welcome to attend. Come along and see what you’re capable of! \nTrain with some of the GTI’s top competitors and improve your physical fitness\, technical ability and all-round performance. \nFees: £10 \nFor more information\, visit https://www.gti-taekwondo.com/national-squad-training.
URL:https://nwstkd.com/index.php/event/gti-national-squad-training-mar-2025/
LOCATION:Whiston Taekwondo\, Unit 15 De Silva Street\, Liverpool\, Merseyside\, L36 6BD\, United Kingdom
CATEGORIES:GTI Squad Training
END:VEVENT
BEGIN:VEVENT
DTSTART;VALUE=DATE:20250330
DTEND;VALUE=DATE:20250331
DTSTAMP:20260421T140909
CREATED:20241210T154950Z
LAST-MODIFIED:20250222T082013Z
UID:2999-1743292800-1743379199@nwstkd.com
SUMMARY:2025 GTI North West Open
DESCRIPTION:  \n\n\n\nSunday 30th March: GTI North West Open\n\n\nVenue\nGreenbank Sports Academy\, Greenbank Lane\, Liverpool\, L17 1AG\n\n\nStart time\nDoors open 09:00.\nTournament starts 09:30.\n\n\nEntry fee\n£25 for GTI members; £30 for non-GTI. Spectators FREE!\n\n\nEligibility\nOpen to all licenced students graded 9th kup (yellow stripe) and above\n\n\nEvents\nPatterns\nPoint stop sparring for yellow/green belt juniors\nContinuous sparring for all other juniors and adults\nTag team sparring (juniors only; 3-person team; register and pay on the day £15)\n\n\nHow to enter\nOnline entry – link to be confirmed\n\n\nFurther info & rules\nhttps://www.gti-taekwondo.com/tournament-rules\n\n\n\n  \n 
URL:https://nwstkd.com/index.php/event/2025-gti-north-west-open/
LOCATION:Greenbank Sports Academy\, Greenbank Lane\, Liverpool\, L17 1AG\, United Kingdom
CATEGORIES:Charity Event,Tournaments
ATTACH;FMTTYPE=image/jpeg:https://nwstkd.com/wp-content/uploads/2024/12/IMG_20250220_110733-scaled.jpg
END:VEVENT
END:VCALENDAR